BEGIN:VCALENDAR
VERSION:2.0
PRODID:-//Magasins du Monde - ECPv6.15.11//NONSGML v1.0//EN
CALSCALE:GREGORIAN
METHOD:PUBLISH
X-WR-CALNAME:Magasins du Monde
X-ORIGINAL-URL:https://mdm.ch
X-WR-CALDESC:Évènements pour Magasins du Monde
REFRESH-INTERVAL;VALUE=DURATION:PT1H
X-Robots-Tag:noindex
X-PUBLISHED-TTL:PT1H
BEGIN:VTIMEZONE
TZID:Europe/Zurich
BEGIN:DAYLIGHT
TZOFFSETFROM:+0100
TZOFFSETTO:+0200
TZNAME:CEST
DTSTART:20230326T010000
END:DAYLIGHT
BEGIN:STANDARD
TZOFFSETFROM:+0200
TZOFFSETTO:+0100
TZNAME:CET
DTSTART:20231029T010000
END:STANDARD
BEGIN:DAYLIGHT
TZOFFSETFROM:+0100
TZOFFSETTO:+0200
TZNAME:CEST
DTSTART:20240331T010000
END:DAYLIGHT
BEGIN:STANDARD
TZOFFSETFROM:+0200
TZOFFSETTO:+0100
TZNAME:CET
DTSTART:20241027T010000
END:STANDARD
BEGIN:DAYLIGHT
TZOFFSETFROM:+0100
TZOFFSETTO:+0200
TZNAME:CEST
DTSTART:20250330T010000
END:DAYLIGHT
BEGIN:STANDARD
TZOFFSETFROM:+0200
TZOFFSETTO:+0100
TZNAME:CET
DTSTART:20251026T010000
END:STANDARD
END:VTIMEZONE
BEGIN:VEVENT
DTSTART;VALUE=DATE:20241203
DTEND;VALUE=DATE:20241229
DTSTAMP:20260421T153933
CREATED:20241105T132424Z
LAST-MODIFIED:20241220T163815Z
UID:7152-1733184000-1735430399@mdm.ch
SUMMARY:Vevey - Marché de Noël artisanal
DESCRIPTION:La Galerie du Magasin du Monde de Vevey vous présente son exposition du mois de mai 2026 Bourgeons MagiquesValérie Schenk Vernissage le vendredi 1er mai de 17h à 19h Quand le monde se fait lourd\, la nature me tend la main. Parmi ses fidèles gardiens\, les arbres veillent. Ils protègent du soleil\, du vent\, du temps qui s’effrite. Leurs racines unissent et retiennent la terre prête à s’envoler. Fruits et bourgeons nourrissent et guérissent\, porteurs d’une sagesse ancienne. Dans le murmure de leurs feuilles\, j’entends passer les saisons\, comme un souffle d’éternité. Sur l’écorce\, dans le cœur du tronc\, s’écrit l’histoire du monde vivant\, fragile\, infinie. Cette exposition célèbre ces gardiens silencieux\, reflets de nos propres racines et de notre besoin vital d’ancrage et de renouveau. À propos de l’artiste : « Artiste peintre et aquarelliste passionnée par la nature\, j’ai trouvé dans la création artistique une source d’équilibre et d’apaisement\, notamment après deux cancers qui ont profondément transformé mon regard. Mon inspiration s’est tournée vers les arbres et la gravure\, explorant la force du vivant et la symbolique du ginkgo\, arbre de résilience et de renouveau.  J’aime donner à mon travail une dimension « défigurative » pour alléger et purifier mes compositions\, en essayant de laisser émerger l’essentiel et la sérénité. Merci à mon mari et ses magnifiques photos qui m’inspirent ».Valérie Schenk.
URL:https://mdm.ch/agenda/vevey-marche-de-noel-artisanal/
LOCATION:Magasin du Monde de Vevey\, Rue du Conseil 20\, Vevey\, 1800\, Suisse
CATEGORIES:Evenement passé,Vevey
ATTACH;FMTTYPE=application/pdf:https://mdm.ch/wp-content/uploads/2024/11/Marche-de-Noel-2024-MDM_02.pdf
END:VEVENT
END:VCALENDAR