BEGIN:VCALENDAR
VERSION:2.0
PRODID:-//Magasins du Monde - ECPv6.15.11//NONSGML v1.0//EN
CALSCALE:GREGORIAN
METHOD:PUBLISH
X-WR-CALNAME:Magasins du Monde
X-ORIGINAL-URL:https://mdm.ch
X-WR-CALDESC:Évènements pour Magasins du Monde
REFRESH-INTERVAL;VALUE=DURATION:PT1H
X-Robots-Tag:noindex
X-PUBLISHED-TTL:PT1H
BEGIN:VTIMEZONE
TZID:Europe/Zurich
BEGIN:DAYLIGHT
TZOFFSETFROM:+0100
TZOFFSETTO:+0200
TZNAME:CEST
DTSTART:20250330T010000
END:DAYLIGHT
BEGIN:STANDARD
TZOFFSETFROM:+0200
TZOFFSETTO:+0100
TZNAME:CET
DTSTART:20251026T010000
END:STANDARD
BEGIN:DAYLIGHT
TZOFFSETFROM:+0100
TZOFFSETTO:+0200
TZNAME:CEST
DTSTART:20260329T010000
END:DAYLIGHT
BEGIN:STANDARD
TZOFFSETFROM:+0200
TZOFFSETTO:+0100
TZNAME:CET
DTSTART:20261025T010000
END:STANDARD
BEGIN:DAYLIGHT
TZOFFSETFROM:+0100
TZOFFSETTO:+0200
TZNAME:CEST
DTSTART:20270328T010000
END:DAYLIGHT
BEGIN:STANDARD
TZOFFSETFROM:+0200
TZOFFSETTO:+0100
TZNAME:CET
DTSTART:20271031T010000
END:STANDARD
END:VTIMEZONE
BEGIN:VEVENT
DTSTART;VALUE=DATE:20260606
DTEND;VALUE=DATE:20260607
DTSTAMP:20260420T181830
CREATED:20260420T091935Z
LAST-MODIFIED:20260420T091935Z
UID:13340-1780704000-1780790399@mdm.ch
SUMMARY:Bulle - Stand à la Fête des commerçants
DESCRIPTION:La Fête des commerçants aura lieu à Bulle le 6 juin 2026\, de 9 h à minuit. Venez retrouver le Magasin du Monde qui tiendra un stand toute la journée dans la Grand-Rue à Bulle !
URL:https://mdm.ch/agenda/bulle-stand-a-la-fete-des-commercants/
CATEGORIES:Bulle
ATTACH;FMTTYPE=image/png:https://mdm.ch/wp-content/uploads/2026/04/Affiche_Annonce_Evenement_FDC_2026_6043f4b2dd.png
END:VEVENT
END:VCALENDAR